BEGIN:VCALENDAR
VERSION:2.0
PRODID:-//Piedmont HealthCare - ECPv6.15.20//NONSGML v1.0//EN
CALSCALE:GREGORIAN
METHOD:PUBLISH
X-ORIGINAL-URL:https://piedmonthealthcare.com
X-WR-CALDESC:Events for Piedmont HealthCare
REFRESH-INTERVAL;VALUE=DURATION:PT1H
X-Robots-Tag:noindex
X-PUBLISHED-TTL:PT1H
BEGIN:VTIMEZONE
TZID:America/New_York
BEGIN:DAYLIGHT
TZOFFSETFROM:-0500
TZOFFSETTO:-0400
TZNAME:EDT
DTSTART:20240310T070000
END:DAYLIGHT
BEGIN:STANDARD
TZOFFSETFROM:-0400
TZOFFSETTO:-0500
TZNAME:EST
DTSTART:20241103T060000
END:STANDARD
BEGIN:DAYLIGHT
TZOFFSETFROM:-0500
TZOFFSETTO:-0400
TZNAME:EDT
DTSTART:20250309T070000
END:DAYLIGHT
BEGIN:STANDARD
TZOFFSETFROM:-0400
TZOFFSETTO:-0500
TZNAME:EST
DTSTART:20251102T060000
END:STANDARD
BEGIN:DAYLIGHT
TZOFFSETFROM:-0500
TZOFFSETTO:-0400
TZNAME:EDT
DTSTART:20260308T070000
END:DAYLIGHT
BEGIN:STANDARD
TZOFFSETFROM:-0400
TZOFFSETTO:-0500
TZNAME:EST
DTSTART:20261101T060000
END:STANDARD
END:VTIMEZONE
BEGIN:VEVENT
DTSTART;TZID=America/New_York:20250124T120000
DTEND;TZID=America/New_York:20250124T140000
DTSTAMP:20260423T185219
CREATED:20230323T195048Z
LAST-MODIFIED:20250110T185909Z
UID:47448-1737720000-1737727200@piedmonthealthcare.com
SUMMARY:PHC Open Job Interviews
DESCRIPTION:Piedmont HealthCare is having OPEN interviews!\n\n\nFlexible Work Schedules\nBenefits\, 401k\, Piedmont Perks\nFamily and Community Focused\n\n\nAre you looking for a job or have any interest in the medical field?\nStop by our PHC Express Care building in Mooresville\, Friday\, January 24th from 12pm-2pm to discuss career opportunities or have an interview on the spot!\n\nWALK-INS WELCOME\n\nPositions available include: MOA\, CMA\, CCMA\, RMA\, Scribe\, IT\, Phlebotomist\, Receptionist\, Office Manager/Supervisor\, and Business Services\nMore Info: https://piedmonthealthcare.com/careers/
URL:https://piedmonthealthcare.com/event/phc-open-job-interviews/
LOCATION:PHC Express Care\, 125 Days Inn Drive\, Mooresville\, NC\, 28117\, United States
CATEGORIES:Join Our Team
ATTACH;FMTTYPE=image/jpeg:https://piedmonthealthcare.com/wp-content/uploads/2023/03/336076506_126230150403881_233379212834203102_n.jpg
END:VEVENT
BEGIN:VEVENT
DTSTART;TZID=America/New_York:20250117T120000
DTEND;TZID=America/New_York:20250117T140000
DTSTAMP:20260423T185219
CREATED:20250110T185809Z
LAST-MODIFIED:20250114T205451Z
UID:67325-1737115200-1737122400@piedmonthealthcare.com
SUMMARY:PHC Open Job Interviews
DESCRIPTION:Piedmont HealthCare is having OPEN interviews!\n\n\nFlexible Work Schedules\nBenefits\, 401k\, Piedmont Perks\nFamily and Community Focused\n\n\nAre you looking for a job or have any interest in the medical field? \nStop by our PHC Admin building in Statesville\, Friday\, January 17th from 12pm-2pm to discuss career opportunities or have an interview on the spot!\n\nOur next Open Interviews will be in Mooresville on Friday\, January\, 24th from 12pm-2pm at PHC Express Care.\n\nWALK-INS WELCOME | BRING A RESUME\n\nPositions available include: MOA\, CMA\, CCMA\, RMA\, Scribe\, IT\, Phlebotomist\, Receptionist\, Office Manager/Supervisor\, and Business Services\nMore Info: https://piedmonthealthcare.com/careers/
URL:https://piedmonthealthcare.com/event/phc-open-job-interviews-4/
LOCATION:Administration Building\, 650 Signal Hill Dr. Ex.\, Statesville\, 28625\, United States
CATEGORIES:Join Our Team
ATTACH;FMTTYPE=image/jpeg:https://piedmonthealthcare.com/wp-content/uploads/2025/01/Cover-Open-interviews-2-scaled.jpg
END:VEVENT
END:VCALENDAR